{"text_format":"1","workbook":"xlsx","n_sheets":2,"sheets":["Sheet1","Sheet2"],"not_rendered":{"charts":0,"images":0,"macros":1,"external_links":0,"defined_names":2,"comments":0,"pivot_tables":0},"unopened":[],"bounds":{"document_bytes":16777216,"sheet_cells":100000,"rows_first":2000,"rows_last":500,"rows_between":2000,"halvings":0,"cell_chars":16384,"cell_head_chars":4096},"cells_cut":0,"cells_raw":0,"read":"whole","date_system":"1900"}

{"sheet":"Sheet1","index":0,"n_rows":18,"n_cols":43,"rows_kept":18,"cut":false,"hidden":false,"merged":[[11,0,11,1],[12,0,12,1],[2,34,2,41],[2,21,2,24],[5,0,5,1],[6,0,6,1],[2,0,2,1],[7,0,8,1],[9,0,10,1]]}
[null,"東新井センター",null,null,null,null,null,null,null,null,null,null,null,null,null,null,null,null,null,null,null,null,null,null,null,null,null,null,"FAX  029-855-1947",null,null,null,null,null,"E-mail:info@ibarakiymca.org"]
[]
[2025,null,"年","サマースクール　パーソナルカード",null,null,null,null,null,null,null,null,null,null,null,null,null,null,null,"小学校：",null,null,null,null,null,null,null,null,null,null,"年",null,null,"氏　名"]
[null,null,7,"月",null,null,null,null,null,null,null,null,8,"月"]
[]
[null,null,{"$f":"DATE(A3,C4,22)","v":"2025-07-22"},{"$f":"C6+1","v":"2025-07-23"},{"$f":"D6+1","v":"2025-07-24"},{"$f":"E6+1","v":"2025-07-25"},"2025-07-26","2025-07-27","2025-07-28","2025-07-29","2025-07-30","2025-07-31",{"$f":"DATE(A3,M4,1)","v":"2025-08-01"},{"$f":"M6+1","v":"2025-08-02"},{"$f":"N6+1","v":"2025-08-03"},"2025-08-04","2025-08-05","2025-08-06","2025-08-07","2025-08-08","2025-08-09","2025-08-10","2025-08-11","2025-08-12","2025-08-13","2025-08-14","2025-08-15","2025-08-16","2025-08-17","2025-08-18","2025-08-19","2025-08-20","2025-08-21","2025-08-22","2025-08-23","2025-08-24","2025-08-25","2025-08-26","2025-08-27","2025-08-28","2025-08-29","2025-08-30",{"$f":"AP6+1","v":"2025-08-31"}]
[null,null,{"$f":"C6","v":45860},{"$f":"D6","v":45861},45862,45863,45864,45865,45866,45867,45868,{"$f":"L6","v":45869},{"$f":"M6","v":45870},{"$f":"N6","v":45871},{"$f":"O6","v":45872},45873,45874,45875,45876,45877,45878,45879,45880,45881,45882,45883,45884,45885,45886,45887,45888,45889,45890,45891,45892,45893,45894,45895,45896,45897,45898,45899,45900]
["ご来館時間"]
[]
["お迎え時間"]
[]
["ＹＭＣＡの\n関連プログラム",null,null,null,"野尻湖キャンプ","野尻湖キャンプ","野尻湖キャンプ","野尻湖キャンプ","野尻湖キャンプ",null,null,null,null,"チャレンジキッズキャンプ","チャレンジキッズキャンプ",null,null,null,null,null,null,null,"山の日","休館日","休館日","休館日","休館日","休館日","スタートキャンプ","スタートキャンプ","スタートキャンプ",null,null,null,null,null,null,null,null,"アドベンチャーキャンプ","アドベンチャーキャンプ","アドベンチャーキャンプ"]
["保護者様備考欄"]
["※","サマースクール期間中は全て1日保育となります。朝からのご来館時刻をご記入ください。"]
["※","サマースクールをご利用される方は、パーソナルカードを7月6日（日）までにご提出ください。1日もご利用が無い場合は、その旨ご連絡ください。"]
["※","パーソナルカードのご提出が無い場合は、お預かり致しかねます。"]
["※","パーソナルカードご提出後のご利用変更については、その都度のご連絡で承りますので、お気軽にお申し付けください。"]
["※","8月10日(日)から17日（日)は、祝日及びお盆休みで休館日となります。休館中はメール返信が出来なくなりますので予めご了承ください。（受信確認はしております）"]

{"sheet":"Sheet2","index":1,"n_rows":2,"n_cols":69,"rows_kept":2,"cut":false,"hidden":false,"merged":[]}
["日時","受付番号","学童名","学校名","学年","01日時","01日分","02日時","02日分","03日時","03日分","04日時","04日分","05日時","05日分","06日時","06日分","07日時","07日分","08日時","08日分","09日時","09日分","10日時","10日分","11日時","11日分","12日時","12日分","13日時","13日分","14日時","14日分","15日時","15日分","16日時","16日分","17日時","17日分","18日時","18日分","19日時","19日分","20日時","20日分","21日時","21日分","22日時","22日分","23日時","23日分","24日時","24日分","25日時","25日分","26日時","26日分","27日時","27日分","28日時","28日分","29日時","29日分","30日時","30日分","31日時","31日分","スタッフへ連絡","E-Mail"]
[null,null,{"$f":"IF(Sheet1!AI3=\"\",\"\",Sheet1!AI3)","v":""},{"$f":"IF(Sheet1!V3=\"\",\"\",Sheet1!V3)","v":""},{"$f":"IF(Sheet1!AD3=\"\",\"\",Sheet1!AD3)","v":""},{"$f":"IF(Sheet1!$M8=\"\",\"\",Sheet1!$M8)","v":""},{"$f":"IF(Sheet1!M9=\"\",\"\",Sheet1!M9)","v":""},{"$f":"IF(Sheet1!N8=\"\",\"\",Sheet1!N8)","v":""},{"$f":"IF(Sheet1!N9=\"\",\"\",Sheet1!N9)","v":""},{"$f":"IF(Sheet1!O8=\"\",\"\",Sheet1!O8)","v":""},{"$f":"IF(Sheet1!O9=\"\",\"\",Sheet1!O9)","v":""},{"$f":"IF(Sheet1!P8=\"\",\"\",Sheet1!P8)","v":""},{"$f":"IF(Sheet1!P9=\"\",\"\",Sheet1!P9)","v":""},{"$f":"IF(Sheet1!Q8=\"\",\"\",Sheet1!Q8)","v":""},{"$f":"IF(Sheet1!Q9=\"\",\"\",Sheet1!Q9)","v":""},{"$f":"IF(Sheet1!R8=\"\",\"\",Sheet1!R8)","v":""},{"$f":"IF(Sheet1!R9=\"\",\"\",Sheet1!R9)","v":""},{"$f":"IF(Sheet1!S8=\"\",\"\",Sheet1!S8)","v":""},{"$f":"IF(Sheet1!S9=\"\",\"\",Sheet1!S9)","v":""},{"$f":"IF(Sheet1!T8=\"\",\"\",Sheet1!T8)","v":""},{"$f":"IF(Sheet1!T9=\"\",\"\",Sheet1!T9)","v":""},{"$f":"IF(Sheet1!U8=\"\",\"\",Sheet1!U8)","v":""},{"$f":"IF(Sheet1!U9=\"\",\"\",Sheet1!U9)","v":""},{"$f":"IF(Sheet1!V8=\"\",\"\",Sheet1!V8)","v":""},{"$f":"IF(Sheet1!V9=\"\",\"\",Sheet1!V9)","v":""},{"$f":"IF(Sheet1!W8=\"\",\"\",Sheet1!W8)","v":""},{"$f":"IF(Sheet1!W9=\"\",\"\",Sheet1!W9)","v":""},{"$f":"IF(Sheet1!X8=\"\",\"\",Sheet1!X8)","v":""},{"$f":"IF(Sheet1!X9=\"\",\"\",Sheet1!X9)","v":""},{"$f":"IF(Sheet1!Y8=\"\",\"\",Sheet1!Y8)","v":""},{"$f":"IF(Sheet1!Y9=\"\",\"\",Sheet1!Y9)","v":""},{"$f":"IF(Sheet1!Z8=\"\",\"\",Sheet1!Z8)","v":""},{"$f":"IF(Sheet1!Z9=\"\",\"\",Sheet1!Z9)","v":""},{"$f":"IF(Sheet1!AA8=\"\",\"\",Sheet1!AA8)","v":""},{"$f":"IF(Sheet1!AA9=\"\",\"\",Sheet1!AA9)","v":""},{"$f":"IF(Sheet1!AB8=\"\",\"\",Sheet1!AB8)","v":""},{"$f":"IF(Sheet1!AB9=\"\",\"\",Sheet1!AB9)","v":""},{"$f":"IF(Sheet1!AC8=\"\",\"\",Sheet1!AC8)","v":""},{"$f":"IF(Sheet1!AC9=\"\",\"\",Sheet1!AC9)","v":""},{"$f":"IF(Sheet1!AD8=\"\",\"\",Sheet1!AD8)","v":""},{"$f":"IF(Sheet1!AD9=\"\",\"\",Sheet1!AD9)","v":""},{"$f":"IF(Sheet1!AE8=\"\",\"\",Sheet1!AE8)","v":""},{"$f":"IF(Sheet1!AE9=\"\",\"\",Sheet1!AE9)","v":""},{"$f":"IF(Sheet1!AF8=\"\",\"\",Sheet1!AF8)","v":""},{"$f":"IF(Sheet1!AF9=\"\",\"\",Sheet1!AF9)","v":""},{"$f":"IF(Sheet1!AG8=\"\",\"\",Sheet1!AG8)","v":""},{"$f":"IF(Sheet1!AG9=\"\",\"\",Sheet1!AG9)","v":""},{"$f":"IF(Sheet1!AH8=\"\",\"\",Sheet1!AH8)","v":""},{"$f":"IF(Sheet1!AH9=\"\",\"\",Sheet1!AH9)","v":""},{"$f":"IF(Sheet1!AI8=\"\",\"\",Sheet1!AI8)","v":""},{"$f":"IF(Sheet1!AI9=\"\",\"\",Sheet1!AI9)","v":""},{"$f":"IF(Sheet1!AJ8=\"\",\"\",Sheet1!AJ8)","v":""},{"$f":"IF(Sheet1!AJ9=\"\",\"\",Sheet1!AJ9)","v":""},{"$f":"IF(Sheet1!AK8=\"\",\"\",Sheet1!AK8)","v":""},{"$f":"IF(Sheet1!AK9=\"\",\"\",Sheet1!AK9)","v":""},{"$f":"IF(Sheet1!AL8=\"\",\"\",Sheet1!AL8)","v":""},{"$f":"IF(Sheet1!AL9=\"\",\"\",Sheet1!AL9)","v":""},{"$f":"IF(Sheet1!AM8=\"\",\"\",Sheet1!AM8)","v":""},{"$f":"IF(Sheet1!AM9=\"\",\"\",Sheet1!AM9)","v":""},{"$f":"IF(Sheet1!AN8=\"\",\"\",Sheet1!AN8)","v":""},{"$f":"IF(Sheet1!AN9=\"\",\"\",Sheet1!AN9)","v":""},{"$f":"IF(Sheet1!AO8=\"\",\"\",Sheet1!AO8)","v":""},{"$f":"IF(Sheet1!AO9=\"\",\"\",Sheet1!AO9)","v":""},{"$f":"IF(Sheet1!AP8=\"\",\"\",Sheet1!AP8)","v":""},{"$f":"IF(Sheet1!AP9=\"\",\"\",Sheet1!AP9)","v":""},{"$f":"IF(Sheet1!AQ8=\"\",\"\",Sheet1!AQ8)","v":""},{"$f":"IF(Sheet1!AQ9=\"\",\"\",Sheet1!AQ9)","v":""},{"$f":"IF(Sheet1!AR9=\"\",\"\",Sheet1!AR9)","v":""}]