{"text_format":"1","workbook":"xlsx","n_sheets":3,"sheets":["Sheet1","Sheet2","Sheet3"],"not_rendered":{"charts":0,"images":0,"macros":1,"external_links":0,"defined_names":2,"comments":0,"pivot_tables":0},"unopened":[],"bounds":{"document_bytes":16777216,"sheet_cells":100000,"rows_first":2000,"rows_last":500,"rows_between":2000,"halvings":0,"cell_chars":16384,"cell_head_chars":4096},"cells_cut":0,"cells_raw":0,"read":"whole","date_system":"1900"}

{"sheet":"Sheet1","index":0,"n_rows":17,"n_cols":33,"rows_kept":17,"cut":false,"hidden":false,"merged":[[11,0,11,1],[12,0,12,1],[2,24,2,29],[2,1,2,2],[7,0,8,0],[7,1,8,1],[9,0,10,0],[9,1,10,1],[2,11,2,14],[5,0,5,1],[6,0,6,1]]}
[null,"東新井センター",null,null,null,null,null,null,null,null,null,null,null,null,null,null,null,null,null,"FAX  029-855-1947",null,null,null,null,"E-mail:info@ibarakiymca.org"]
[]
[null,2022,null,"年",null,null,null,null,null,"小学校：",null,null,null,null,null,null,null,null,null,null,"年",null,null,"氏　名"]
[null,6,"月児童クラブ　パーソナルカード"]
[]
[null,null,{"$f":"DATE(B3,B4,1)","v":"2022-06-01"},{"$f":"C6+1","v":"2022-06-02"},{"$f":"D6+1","v":"2022-06-03"},"2022-06-04","2022-06-05","2022-06-06","2022-06-07","2022-06-08","2022-06-09","2022-06-10","2022-06-11","2022-06-12","2022-06-13","2022-06-14","2022-06-15","2022-06-16","2022-06-17","2022-06-18","2022-06-19","2022-06-20","2022-06-21","2022-06-22","2022-06-23","2022-06-24","2022-06-25","2022-06-26","2022-06-27","2022-06-28",{"$f":"AD6+1","v":"2022-06-29"},{"$f":"AE6+1","v":"2022-06-30"},"2022-07-01"]
[null,null,{"$f":"C6","v":44713},{"$f":"D6","v":44714},{"$f":"E6","v":44715},44716,44717,44718,44719,44720,44721,44722,44723,44724,44725,44726,44727,44728,44729,44730,44731,44732,44733,44734,44735,44736,44737,44738,44739,44740,{"$f":"AE6","v":44741},44742,{"$f":"AG6","v":44743}]
["下校時間","（送り時間）"]
[]
["迎え時間","（保護者様の　来館時間）"]
[]
["学校行事\n祝日"]
["ＹＭＣＡの関連プログラム\n保護者様備考欄",null,null,null,null,null,null,null,null,null,null,null,null,null,null,null,null,null,null,"音楽祭"]
["※","パーソナルカードはご利用の有無を判断するのに用いられます。必ずご提出いただくようお願いいたします。"]
["※","時間はどちらも必ずご記入ください。無記入の場合、送迎の責任を負いかねます。現時点でご不明の場合は、分かり次第ご連絡で構いません。"]
["※","4年生以上でクラブ・委員会活動などがある場合は、通常と下校時刻が異なりますのでご注意ください。"]
["※","6月パーソナルカードは、5月31日(火)までにご提出いただくようお願いいたします。"]

{"sheet":"Sheet2","index":1,"n_rows":2,"n_cols":69,"rows_kept":2,"cut":false,"hidden":false,"merged":[]}
["日時","受付番号","学童名","学校名","学年","01日時","01日分","02日時","02日分","03日時","03日分","04日時","04日分","05日時","05日分","06日時","06日分","07日時","07日分","08日時","08日分","09日時","09日分","10日時","10日分","11日時","11日分","12日時","12日分","13日時","13日分","14日時","14日分","15日時","15日分","16日時","16日分","17日時","17日分","18日時","18日分","19日時","19日分","20日時","20日分","21日時","21日分","22日時","22日分","23日時","23日分","24日時","24日分","25日時","25日分","26日時","26日分","27日時","27日分","28日時","28日分","29日時","29日分","30日時","30日分","31日時","31日分","スタッフへ連絡","E-Mail"]
[null,null,{"$f":"IF(Sheet1!Y3=\"\",\"\",Sheet1!Y3)","v":""},{"$f":"IF(Sheet1!L3=\"\",\"\",Sheet1!L3)","v":""},{"$f":"IF(Sheet1!T3=\"\",\"\",Sheet1!T3)","v":""},{"$f":"IF(Sheet1!$C8=\"\",\"\",Sheet1!$C8)","v":""},{"$f":"IF(Sheet1!C9=\"\",\"\",Sheet1!C9)","v":""},{"$f":"IF(Sheet1!D8=\"\",\"\",Sheet1!D8)","v":""},{"$f":"IF(Sheet1!D9=\"\",\"\",Sheet1!D9)","v":""},{"$f":"IF(Sheet1!E8=\"\",\"\",Sheet1!E8)","v":""},{"$f":"IF(Sheet1!E9=\"\",\"\",Sheet1!E9)","v":""},{"$f":"IF(Sheet1!F8=\"\",\"\",Sheet1!F8)","v":""},{"$f":"IF(Sheet1!F9=\"\",\"\",Sheet1!F9)","v":""},{"$f":"IF(Sheet1!G8=\"\",\"\",Sheet1!G8)","v":""},{"$f":"IF(Sheet1!G9=\"\",\"\",Sheet1!G9)","v":""},{"$f":"IF(Sheet1!H8=\"\",\"\",Sheet1!H8)","v":""},{"$f":"IF(Sheet1!H9=\"\",\"\",Sheet1!H9)","v":""},{"$f":"IF(Sheet1!I8=\"\",\"\",Sheet1!I8)","v":""},{"$f":"IF(Sheet1!I9=\"\",\"\",Sheet1!I9)","v":""},{"$f":"IF(Sheet1!J8=\"\",\"\",Sheet1!J8)","v":""},{"$f":"IF(Sheet1!J9=\"\",\"\",Sheet1!J9)","v":""},{"$f":"IF(Sheet1!K8=\"\",\"\",Sheet1!K8)","v":""},{"$f":"IF(Sheet1!K9=\"\",\"\",Sheet1!K9)","v":""},{"$f":"IF(Sheet1!L8=\"\",\"\",Sheet1!L8)","v":""},{"$f":"IF(Sheet1!L9=\"\",\"\",Sheet1!L9)","v":""},{"$f":"IF(Sheet1!M8=\"\",\"\",Sheet1!M8)","v":""},{"$f":"IF(Sheet1!M9=\"\",\"\",Sheet1!M9)","v":""},{"$f":"IF(Sheet1!N8=\"\",\"\",Sheet1!N8)","v":""},{"$f":"IF(Sheet1!N9=\"\",\"\",Sheet1!N9)","v":""},{"$f":"IF(Sheet1!O8=\"\",\"\",Sheet1!O8)","v":""},{"$f":"IF(Sheet1!O9=\"\",\"\",Sheet1!O9)","v":""},{"$f":"IF(Sheet1!P8=\"\",\"\",Sheet1!P8)","v":""},{"$f":"IF(Sheet1!P9=\"\",\"\",Sheet1!P9)","v":""},{"$f":"IF(Sheet1!Q8=\"\",\"\",Sheet1!Q8)","v":""},{"$f":"IF(Sheet1!Q9=\"\",\"\",Sheet1!Q9)","v":""},{"$f":"IF(Sheet1!R8=\"\",\"\",Sheet1!R8)","v":""},{"$f":"IF(Sheet1!R9=\"\",\"\",Sheet1!R9)","v":""},{"$f":"IF(Sheet1!S8=\"\",\"\",Sheet1!S8)","v":""},{"$f":"IF(Sheet1!S9=\"\",\"\",Sheet1!S9)","v":""},{"$f":"IF(Sheet1!T8=\"\",\"\",Sheet1!T8)","v":""},{"$f":"IF(Sheet1!T9=\"\",\"\",Sheet1!T9)","v":""},{"$f":"IF(Sheet1!U8=\"\",\"\",Sheet1!U8)","v":""},{"$f":"IF(Sheet1!U9=\"\",\"\",Sheet1!U9)","v":""},{"$f":"IF(Sheet1!V8=\"\",\"\",Sheet1!V8)","v":""},{"$f":"IF(Sheet1!V9=\"\",\"\",Sheet1!V9)","v":""},{"$f":"IF(Sheet1!W8=\"\",\"\",Sheet1!W8)","v":""},{"$f":"IF(Sheet1!W9=\"\",\"\",Sheet1!W9)","v":""},{"$f":"IF(Sheet1!X8=\"\",\"\",Sheet1!X8)","v":""},{"$f":"IF(Sheet1!X9=\"\",\"\",Sheet1!X9)","v":""},{"$f":"IF(Sheet1!Y8=\"\",\"\",Sheet1!Y8)","v":""},{"$f":"IF(Sheet1!Y9=\"\",\"\",Sheet1!Y9)","v":""},{"$f":"IF(Sheet1!Z8=\"\",\"\",Sheet1!Z8)","v":""},{"$f":"IF(Sheet1!Z9=\"\",\"\",Sheet1!Z9)","v":""},{"$f":"IF(Sheet1!AA8=\"\",\"\",Sheet1!AA8)","v":""},{"$f":"IF(Sheet1!AA9=\"\",\"\",Sheet1!AA9)","v":""},{"$f":"IF(Sheet1!AB8=\"\",\"\",Sheet1!AB8)","v":""},{"$f":"IF(Sheet1!AB9=\"\",\"\",Sheet1!AB9)","v":""},{"$f":"IF(Sheet1!AC8=\"\",\"\",Sheet1!AC8)","v":""},{"$f":"IF(Sheet1!AC9=\"\",\"\",Sheet1!AC9)","v":""},{"$f":"IF(Sheet1!AD8=\"\",\"\",Sheet1!AD8)","v":""},{"$f":"IF(Sheet1!AD9=\"\",\"\",Sheet1!AD9)","v":""},{"$f":"IF(Sheet1!#REF!=\"\",\"\",Sheet1!#REF!)","v":{"$error":"#REF!"}},{"$f":"IF(Sheet1!#REF!=\"\",\"\",Sheet1!#REF!)","v":{"$error":"#REF!"}},{"$f":"IF(Sheet1!#REF!=\"\",\"\",Sheet1!#REF!)","v":{"$error":"#REF!"}},{"$f":"IF(Sheet1!#REF!=\"\",\"\",Sheet1!#REF!)","v":{"$error":"#REF!"}},{"$f":"IF(Sheet1!#REF!=\"\",\"\",Sheet1!#REF!)","v":{"$error":"#REF!"}},{"$f":"IF(Sheet1!#REF!=\"\",\"\",Sheet1!#REF!)","v":{"$error":"#REF!"}},{"$f":"IF(Sheet1!#REF!=\"\",\"\",Sheet1!#REF!)","v":{"$error":"#REF!"}}]

{"sheet":"Sheet3","index":2,"n_rows":0,"n_cols":0,"rows_kept":0,"cut":false,"hidden":false,"merged":[]}